BEGIN:VCALENDAR
VERSION:2.0
PRODID:-//Red River Health - ECPv6.15.11//NONSGML v1.0//EN
CALSCALE:GREGORIAN
METHOD:PUBLISH
X-WR-CALNAME:Red River Health
X-ORIGINAL-URL:https://redriverhealth.com
X-WR-CALDESC:Events for Red River Health
REFRESH-INTERVAL;VALUE=DURATION:PT1H
X-Robots-Tag:noindex
X-PUBLISHED-TTL:PT1H
BEGIN:VTIMEZONE
TZID:UTC
BEGIN:STANDARD
TZOFFSETFROM:+0000
TZOFFSETTO:+0000
TZNAME:UTC
DTSTART:20230101T000000
END:STANDARD
END:VTIMEZONE
BEGIN:VEVENT
DTSTART;TZID=UTC:20240418T180000
DTEND;TZID=UTC:20240418T193000
DTSTAMP:20260423T160219
CREATED:20240409T181624Z
LAST-MODIFIED:20240412T160739Z
UID:1895-1713463200-1713468600@redriverhealth.com
SUMMARY:Alchemy of Aging - April 18th
DESCRIPTION:Alchemy for Aging:\nAging is complicated. So many things change; there is so much to accept and times that accepting does not feel bearable. There are things to let go of that are difficult to part with. There is grief. In this session of Alchemy for Aging\, we are going to settle into a safe container to discuss complexities of acceptance and letting go. We will also gather some tools for embracing this time as empowering and enlivening. \nThursday evenings from 6 – 7:30\nThe Dojo (third floor)\n824 Main Ave\, Fargo\nDrop in fee: $20 per class\n\n\nIn this nurturing and supportive environment\, we will explore various holistic wellness topics aimed at enhancing overall well-being. From breathwork and meditation to gentle yoga flows\, each session will be crafted to share and gather wisdom\, engage in movement\, and learn sustainable practices for aging well.\n\n\nPlease email Jaclyn Weber if you have any questions about the event. Please email Red River Health with questions about online registration.
URL:https://redriverhealth.com/event/alchemy-of-aging-april-18th/
CATEGORIES:Alchemy of Aging
ATTACH;FMTTYPE=image/png:https://redriverhealth.com/wp-content/uploads/2024/01/Alchemy-of-Aging.png
END:VEVENT
BEGIN:VEVENT
DTSTART;TZID=UTC:20240321T180000
DTEND;TZID=UTC:20240321T193000
DTSTAMP:20260423T160219
CREATED:20240206T224814Z
LAST-MODIFIED:20240307T210814Z
UID:1645-1711044000-1711049400@redriverhealth.com
SUMMARY:Alchemy of Aging
DESCRIPTION:Alchemy for Aging:\nA class for moving well through the process of aging.\nThursday evenings from 6 – 7:30\nThe Dojo (third floor)\n824 Main Ave\, Fargo\nDrop in fee: $20 per class\n\n\nIn this nurturing and supportive environment\, we will explore various holistic wellness topics aimed at enhancing overall well-being. From breathwork and meditation to gentle yoga flows\, each session will be crafted to share and gather wisdom\, engage in movement\, and learn sustainable practices for aging well.\n\n\nPlease email Jaclyn Weber if you have any questions about the event. Please email Red River Health with questions about online registration.
URL:https://redriverhealth.com/event/alchemy-of-aging/
CATEGORIES:Alchemy of Aging
ATTACH;FMTTYPE=image/png:https://redriverhealth.com/wp-content/uploads/2024/01/Alchemy-of-Aging.png
END:VEVENT
END:VCALENDAR